BEGIN:VCALENDAR
VERSION:2.0
PRODID:-//wp-events-plugin.com//7.2.3.1//EN
BEGIN:VEVENT
UID:848@tierheim-karlsruhe.de
DTSTART:20230410T110000Z
DTEND:20230410T160000Z
DTSTAMP:20230330T181243Z
URL:https://www.tierheim-karlsruhe.de/events/einladung-zum-grossen-osterba
 sar/
SUMMARY:Einladung zum großen Osterbasar
DESCRIPTION:Liebe Tierfreunde\,\nwir laden Sie recht herzlich zu unserem gr
 oßen Osterbasar ein\, der am Ostermontag\, den 10.04.23 in der Zeit von 1
 2 - 17 Uhr stattfindet.\n\n\n 	An diesem Tag bieten wir wieder verschieden
 e vegetarische Gerichte\, frisch zubereitete Dampfnudeln und Flammkuchen a
 n.\n 	Unser großes Kuchen- und Tortenbuffet lässt ebenfalls keine Wünsc
 he offen. Natürlich packen wir Ihnen den Kuchen gerne ein\, damit Sie ihn
  auch noch am nächsten Tag genießen können.\n 	Tombola - veranstaltet v
 on der Katzenhilfe\n 	Viele Informationsstände werden unser Fest bereiche
 rn und stehen für Fragen\, rund um die Tierhaltung zur Verfügung.\n 	Kun
 sthandwerkliche Artikel werden ausgestellt\n 	Mehrere Tanzeinlagen des KUT
  UPs Karlsruhe Square Dance Club e.V.\n 	Tierheimführungen (13 Uhr und 14
 :30 Uhr - Treffpunkt im Innenhof auf der Rasenfläche)\n 	Auch an unsere k
 leinen Gäste haben wir gedacht! Bei geeignetem Wetter stellen wir eine H
 üpfburg auf.\n 	Flohmarktstand mit Kinderspielzeug (in Planung).\n 	Wahl 
 des originellsten Mischlings (15:30 Uhr im Innenhof auf der Rasenfläche -
  Anmeldung bitte bis spätestens 15 Uhr am Tierheiminfostand)\n\nVerbringe
 n Sie mit Ihren Kindern\, Freunden und Bekannten einen interessanten und l
 ehrreichen Nachmittag bei uns im Tierheim. Tauschen Sie sich gerne mit Gle
 ichgesinnten aus und haben sie Spaß.\n\nNatürlich können Sie am Fest au
 ch unsere Tierheimschützlinge besuchen\, die allesamt ein gutes Zuhause b
 enötigen. Möchten Sie einen Schützling finanziell unterstützen\, dann 
 bietet sich auch der Abschluss einer Patenschaft an.\n\nWir benötigen fü
 r unseren Osterbasar dringend Kuchen- oder Tortenspenden. Wenn Sie uns mit
  Spenden unterstützen könnten\, wären wir Ihnen sehr dankbar.  :o)\n\n
 Falls Sie uns finanziell unterstützen möchten\, überweisen Sie den Betr
 ag bitte auf folgendes Konto: IBAN: DE85 6605 0101 0009 171638     BIC
 : KARSDE66XXX   Sparkasse Karlsruhe\n\nWir freuen uns sehr über Ihren B
 esuch im Tierheim Karlsruhe und bedanken uns im Voraus bei allen Spendern.
 \n\n
ATTACH;FMTTYPE=image/jpeg:https://www.tierheim-karlsruhe.de/wp-content/upl
 oads/2015/02/Stallkaninchen.jpg
CATEGORIES:Allgemein
LOCATION:Tierheim Karlsruhe\, Hermann-Schneider-Allee 20\, Karlsruhe\, 7618
 9\, Deutschland
GEO:49.0033012814894;8.318175728588812
X-APPLE-STRUCTURED-LOCATION;VALUE=URI;X-ADDRESS=Hermann-Schneider-Allee 20\
 , Karlsruhe\, 76189\, Deutschland;X-APPLE-RADIUS=100;X-TITLE=Tierheim Karl
 sruhe:geo:49.0033012814894,8.318175728588812
END:VEVENT
END:VCALENDAR